BEGIN:VCALENDAR
VERSION:2.0
PRODID:-//pretix//HanaCon_e.V._Pretix//
BEGIN:VEVENT
UID:pretix-KAIDAN-KOIE1-0@aussteller.koibana.de
DTSTART;VALUE=DATE:20260314
DTEND;VALUE=DATE:20260316
DESCRIPTION:Tickets: https://aussteller.koibana.de/\nVeranstalter: S.O.D.A.
  & Tea
DTSTAMP:20260422T222212Z
LOCATION:Alte Lokhalle\, Mombacher Straße 78-80\, 55122 Mainz
SUMMARY:KOIBANA LOVE STORY I - Aussteller
END:VEVENT
END:VCALENDAR
